Workbook
Name Index_Sheet_Kutools: #REF!
Name Index_Sheet_Kutools: #REF!
Name Index_Sheet_Kutools: #REF!

Sheet INDICE
D4: 1. Cuentas Consolidadas de la Nación
D5: Cuadro N° 1.1.1 | E5: Bolivia: Cuenta del Producto y Gasto Interno Bruto, 2017 - 2021. En millones de bolivianos corrientes
D6: Cuadro N° 1.2.1 | E6: Bolivia: Ingreso Nacional Bruto Disponible y su Asignación, 2017 - 2021. En millones de bolivianos corrientes
D7: Cuadro N° 1.3.1 | E7: Bolivia: Cuenta de Acumulación y Financiación de Capital, 2017 - 2021. En millones de bolivianos corrientes
D8: Cuadro N° 1.4.1 | E8: Bolivia: Cuenta de Transacciones con el Resto del Mundo, 2017 - 2021. En millones de bolivianos corrientes
D10: 2. Principales indicadores macroeconómicos año de referencia 2017
D12: Producto Interno Bruto - PIB, 2017 - 2021
D14: Precios corrientes
D15: Cuadro N° 2.1.1 | E15: Bolivia: Producto Interno Bruto por el enfoque de la producción. En millones de bolivianos corrientes
D16: Cuadro N° 2.1.2 | E16: Bolivia: Estructura del Producto Interno Bruto por el enfoque de la producción. En porcentaje
D17: Cuadro N° 2.2.1 | E17: Bolivia: Producto Interno Bruto por el enfoque del gasto. En millones de bolivianos corrientes
D18: Cuadro N° 2.2.2 | E18: Bolivia: Estructura del Producto Interno Bruto por el enfoque del gasto. En porcentaje
D19: Cuadro N° 2.3.1 | E19: Bolivia: Producto Interno Bruto por el enfoque del ingreso. En millones de bolivianos corrientes
D20: Cuadro N° 2.3.2 | E20: Bolivia: Estructura del Producto Interno Bruto por el enfoque del ingreso. En porcentaje
D21: Cuadro N° 2.4.1 | E21: Bolivia: Valor Agregado Bruto por actividad económica. En millones de bolivianos corrientes
D22: Cuadro N° 2.4.2 | E22: Bolivia: Estructura del Valor Agregado Bruto por actividad económica. En porcentaje
D23: Cuadro N° 2.5.1 | E23: Bolivia: Producto Interno Bruto por actividad económica. En millones de bolivianos corrientes
D24: Cuadro N° 2.5.2 | E24: Bolivia: Estructura del Producto Interno Bruto por actividad económica. En porcentaje
D26: Medidas de volumen encadenadas con año de referencia 2017
D27: Cuadro N° 2.6.1 | E27: Bolivia: Medidas de volumen encadenadas del Producto Interno Bruto por el enfoque de la producción con año de referencia. En millones de bolivianos encadenados
D28: Cuadro N° 2.6.2 | E28: Bolivia: Índices de volumen encadenados del Producto Interno Bruto por el enfoque de la producción (Referencia 2017=100)
D29: Cuadro N° 2.6.3 | E29: Bolivia: Variación de las medidas de volumen encadenadas del Producto Interno Bruto por el enfoque de la producción con año de referencia. En porcentaje
D30: Cuadro N° 2.6.4 | E30: Bolivia: Contribución a la variación de las medidas de volumen encadenadas del Producto Interno Bruto por el enfoque de la producción con año de referencia. En porcentaje
D31: Cuadro N° 2.7.1 | E31: Bolivia: Medidas de volumen encadenadas del Producto Interno Bruto por el enfoque del gasto con año de referencia. En millones de bolivianos encadenados
D32: Cuadro N° 2.7.2 | E32: Bolivia: Índices encadenados de volumen del Producto Interno Bruto por el enfoque del gasto (Referencia 2017=100)
D33: Cuadro N° 2.7.3 | E33: Bolivia: Variación de las medidas de volumen encadenadas del Producto Interno Bruto por el enfoque del gasto con año de referencia. En porcentaje
D34: Cuadro N° 2.7.4 | E34: Bolivia: Contribución a la variación de las medidas de volumen encadenadas del Producto Interno Bruto por el enfoque del gasto con año de referencia. En porcentaje
D35: Cuadro N° 2.8.1 | E35: Bolivia: Medidas de volumen encadenadas del Valor Agregado Bruto por actividad económica con año de referencia. En millones de bolivianos encadenados
D36: Cuadro N° 2.8.2 | E36: Bolivia: Índices de volumen encadenadas del Valor Agregado Bruto por actividad económica con año de referencia (Referencia 2017=100)
D37: Cuadro N° 2.8.3 | E37: Bolivia: Variación de las medidas de volumen encadenadas del Valor Agregado Bruto por actividad económica con año de referencia. En porcentaje
D38: Cuadro N° 2.8.4 | E38: Bolivia: Contribución a la variación de las medidas de volumen encadenadas del Producto Interno Bruto por actividad económica con año de referencia. En porcentaje
... D42: Cuadro N° 2.9.4 | E42: Bolivia: Contribución a la variación de las medidas de volumen encadenadas del Producto Interno Bruto por actividad económica con año de referencia. En porcentaje
D44: Componentes de Oferta y Demanda, 2017 - 2021
D46: Precios corrientes
D47: Cuadro N° 2.10.1 | E47: Bolivia: Gasto de Consumo Final de los Hogares por Finalidad. En millones de bolivianos corrientes
D48: Cuadro N° 2.10.2 | E48: Bolivia: Estructura del Gasto de Consumo Final de los Hogares por Finalidad. En porcentaje
D49: Cuadro N° 2.11.1 | E49: Bolivia: Formación Bruta de Capital Fijo, público y privado, según producto. En millones de bolivianos corrientes
D50: Cuadro N° 2.11.2 | E50: Bolivia: Estructura de la Formación Bruta de Capital Fijo, público y privado, según producto. En porcentaje
D51: Cuadro N° 2.12.1 | E51: Bolivia: Formación Bruta de Capital Fijo, por tipo de activo. En millones de bolivianos corrientes
D52: Cuadro N° 2.12.2 | E52: Bolivia: Estructura de la Formación Bruta de Capital Fijo, por tipo de activo. En porcentaje
...

Sheet CUENTAS CONSOLIDADAS
B7: CUADRO N° 1.1.1
B8: BOLIVIA: CUENTA DEL PRODUCTO Y GASTO INTERNO BRUTO, 2017-2021
B9: (En millones de bolivianos corrientes)
B10: CONCEPTO | C10: 2017 | D10: 2018 | E10: 2019 | F10: 2020 | G10: 2021
B11: PRODUCTO INTERNO BRUTO | C11: 317358.7 | D11: 334541.3 | E11: 338981.19 | F11: 292388.37 | G11: 330836.19
B12: Remuneración de los asalariados | C12: 115880.27 | D12: 124739.47 | E12: 127512.73 | F12: 116800.08 | G12: 122390.25
B13: Excedente de explotación bruto | C13: 103291.16 | D13: 108993.36 | E13: 111548.09 | F13: 91619.178 | G13: 112613.41
B14: Ingreso mixto bruto | C14: 62635.035 | D14: 65904.827 | E14: 69320.066 | F14: 59393.937 | G14: 68657.774
B15: Impuestos sobre los productos | C15: 36066.951 | D15: 37228.843 | E15: 33975.245 | F15: 25181.074 | G15: 31045.572
B16: Otros impuestos sobre la producción | C16: 3238.1701 | D16: 3508.8889 | E16: 3475.7773 | F16: 3136.7553 | G16: 3149.4548
B17: Menos: Subvenciones a los productos | C17: -2339.3311 | D17: -4333.6464 | E17: -4961.1504 | F17: -2309.5241 | G17: -5285.1747
B18: Menos: Subvenciones a la producción | C18: -1413.5554 | D18: -1500.4454 | E18: -1889.5575 | F18: -1433.1235 | G18: -1735.0886
B20: GASTO CORRESPONDIENTE AL PRODUCTO INTERNO BRUTO | C20: 317358.7 | D20: 334541.13 | E20: 338981.47 | F20: 292388.39 | G20: 330836.2
B21: Gasto de consumo final del Gobierno General | C21: 48224.356 | D21: 53788.348 | E21: 54627.702 | F21: 54403.676 | G21: 56198.676
B22: Gasto de consumo final de los Hogares | C22: 210245.92 | D22: 218915.55 | E22: 224381.12 | F22: 196141.37 | G22: 215161.81
... B28: Menos: Importaciones de bienes y servicios | C28: 82631.44 | D28: 88891.348 | E28: 87367.486 | F28: 60362.621 | G28: 79779.731
B29: Fuente: Instituto Nacional de Estadística
B33: CUADRO N° 1.2.1
B34: BOLIVIA: CUENTA DEL INGRESO DISPONIBLE BRUTO Y SU ASIGNACIÓN, 2017-2021
B35: (En millones de bolivianos corrientes)
B36: CONCEPTO | C36: 2017 | D36: 2018 | E36: 2019 | F36: 2020 | G36: 2021
B37: INGRESO DISPONIBLE BRUTO | C37: 319509.83 | D37: 336414.72 | E37: 341258.62 | F37: 296544.72 | G37: 332221.6
B38: Remuneración de los asalariados | C38: 115880.27 | D38: 124739.47 | E38: 127512.73 | F38: 116800.08 | G38: 122390.25
B39: Remuneración de los asalariados procedente del Resto del Mundo, neta | C39: 90.307866 | D39: 106.87194 | E39: 96.978165 | F39: 59.051894 | G39: 95.48143
B40: Excedente bruto de explotación | C40: 103291.16 | D40: 108993.36 | E40: 111548.09 | F40: 91619.178 | G40: 112613.41
B41: Ingreso mixto | C41: 62635.035 | D41: 65904.827 | E41: 69320.066 | F41: 59393.937 | G41: 68657.774
B42: Renta de la propiedad procedente del Resto del Mundo, neta | C42: -7714.19 | D42: -6920.616 | E42: -5883.6092 | F42: -2944.7343 | G42: -7071.1926
B43: Impuestos sobre los productos | C43: 36066.951 | D43: 37228.843 | E43: 33975.245 | F43: 25181.074 | G43: 31045.572
B44: Otros impuestos sobre la producción | C44: 3238.1701 | D44: 3508.8889 | E44: 3475.7773 | F44: 3136.7553 | G44: 3149.4548
B45: Menos: Subvenciones a los productos | C45: -2339.3311 | D45: -4333.6464 | E45: -4961.1504 | F45: -2309.5241 | G45: -5285.1747
B46: Menos: Subvenciones a la producción | C46: -1413.5554 | D46: -1500.4454 | E46: -1889.5575 | F46: -1433.1235 | G46: -1735.0886
B47: Otras transferencias corrientes procedentes del Resto del Mundo, neta | C47: 9775.0207 | D47: 8687.1603 | E47: 8064.0572 | F47: 7042.0317 | G47: 8361.1139
... B53: Ahorro bruto | C53: 58888.48 | D53: 61466.721 | E53: 59824.161 | F53: 43615.505 | G53: 58370.55
B54: Fuente: Instituto Nacional de Estadística
B58: CUADRO N° 1.3.1
B59: BOLIVIA: CUENTA DE ACUMULACIÓN Y FINANCIACIÓN DE CAPITAL, 2017-2021
B60: (En millones de bolivianos corrientes)
B61: CONCEPTO | C61: 2017 | D61: 2018 | E61: 2019 | F61: 2020 | G61: 2021
B62: ACUMULACIÓN DE CAPITAL | C62: 58914.068 | D62: 61678.463 | E62: 59858.658 | F62: 43734.459 | G62: 58397.719
B63: Variación de existencias | C63: 3306.8838 | D63: 3311.8799 | E63: -1551.019 | F63: 4092.9107 | G63: 2370.2935
...

Sheet 2.1.1
B7: Cuadro N° 2.1.1
B8: BOLIVIA: PRODUCTO INTERNO BRUTO POR EL ENFOQUE DE LA PRODUCCIÓN, 2017-2021
B9: (En millones de bolivianos corrientes)
B10: CONCEPTO | C10: 2017 | D10: 2018 | E10: 2019 | F10: 2020 | G10: 2021
B12: PRODUCTO INTERNO BRUTO | C12: 317358.6 | D12: 334541.03 | E12: 338981.42 | F12: 292388.25 | G12: 330836.24
B14: Producción | C14: 508044.87 | D14: 535112.71 | E14: 550708.21 | F14: 471160.39 | G14: 546436.35
B15: Consumo intermedio | C15: 224413.88 | D15: 233466.9 | E15: 240740.9 | F15: 201643.69 | G15: 241360.51
B16: Valor agregado bruto | C16: 283630.98 | D16: 301645.83 | E16: 309967.32 | F16: 269516.7 | G16: 305075.84
B17: Impuesto al valor agregado no deducible | C17: 17345.144 | D17: 17909.695 | E17: 16650.588 | F17: 12750.748 | G17: 15477.16
B18: Otros impuestos a los productos netos de subvenciones | C18: 16382.476 | D18: 14985.502 | E18: 12363.507 | F18: 10120.802 | G18: 10283.237
B20: Fuente: Instituto Nacional de Estadística

Sheet 2.1.2
B7: Cuadro N° 2.1.2
B8: BOLIVIA: ESTRUCTURA DEL PRODUCTO INTERNO BRUTO POR EL ENFOQUE DE LA PRODUCCIÓN, 2017-2021
B9: (En porcentaje)
B10: CONCEPTO | C10: 2017 | D10: 2018 | E10: 2019 | F10: 2020 | G10: 2021
B12: PRODUCTO INTERNO BRUTO | C12: 100 | D12: 100 | E12: 100 | F12: 100 | G12: 100
B14: Producción | C14: 160.08543 | D14: 159.95429 | E14: 162.4597 | F14: 161.14204 | G14: 165.16823
B15: Consumo intermedio | C15: 70.713028 | D15: 69.787225 | E15: 71.018906 | F15: 68.96436 | G15: 72.954678
B16: Valor agregado bruto | C16: 89.372395 | D16: 90.167066 | E16: 91.440801 | F16: 92.177678 | G16: 92.21355
B17: Impuesto al valor agregado no deducible | C17: 5.4654715 | D17: 5.3535124 | E17: 4.9119472 | F17: 4.360896 | G17: 4.6781938
B18: Otros impuestos a los productos netos de subvenciones | C18: 5.1621339 | D18: 4.4794212 | E18: 3.6472521 | F18: 3.4614257 | G18: 3.108256
B20: Fuente: Instituto Nacional de Estadística

Sheet 2.2.1
B7: Cuadro N° 2.2.1
B8: BOLIVIA: PRODUCTO INTERNO BRUTO POR EL ENFOQUE DEL GASTO, 2017-2021
B9: (En millones de bolivianos corrientes)
B11: CONCEPTO | C11: 2017 | D11: 2018 | E11: 2019 | F11: 2020 | G11: 2021
B13: PRODUCTO INTERNO BRUTO | C13: 317358.61 | D13: 334541.01 | E13: 338981.41 | F13: 292388.25 | G13: 330836.24
B15: Gasto de consumo final de los hogares | C15: 210245.92 | D15: 218915.55 | E15: 224381.12 | F15: 196141.37 | G15: 215161.81
B16: Gasto de consumo final de las ISFLSH(1) | C16: 2151.0797 | D16: 2243.926 | E16: 2426.0197 | F16: 2384.1858 | G16: 2490.5609
B17: Gasto de consumo final de la administración pública | C17: 48224.356 | D17: 53788.348 | E17: 54627.702 | F17: 54403.676 | G17: 56198.676
B18: Variación de existencias | C18: 3306.8218 | D18: 3311.7577 | E18: -1551.1852 | F18: 4092.7715 | G18: 2370.3349
B19: Formación bruta de capital fijo | C19: 73365.902 | D19: 76353.295 | E19: 77674.896 | F19: 46179.012 | G19: 56384.913
B20: Adquisición menos disposición de objetos valiosos | C20: 687.69157 | D20: 723.45853 | E20: 833.25089 | F20: 218.83067 | G20: 89.415966
B21: Exportaciones de bienes y servicios | C21: 62008.275 | D21: 68096.019 | E21: 67957.094 | F21: 49331.023 | G21: 77920.256
B22: Menos importaciones de bienes y servicios | C22: 82631.44 | D22: 88891.348 | E22: 87367.486 | F22: 60362.621 | G22: 79779.731
B24: Fuente: Instituto Nacional de Estadística
B25: (1) Instituciones sin fines de lucro que sirven a los hogares

Sheet 2.2.2
B7: Cuadro N° 2.2.2
B8: BOLIVIA: ESTRUCTURA DEL PRODUCTO INTERNO BRUTO POR EL ENFOQUE DEL GASTO, 2017-2021
B9: (En porcentaje)
B10: CONCEPTO | C10: 2017 | D10: 2018 | E10: 2019 | F10: 2020 | G10: 2021
B12: PRODUCTO INTERNO BRUTO | C12: 100 | D12: 100 | E12: 100 | F12: 100 | G12: 100
B14: Gasto de consumo final de los hogares | C14: 66.24869 | D14: 65.437583 | E14: 66.19275 | F14: 67.082508 | G14: 65.035745
B15: Gasto de consumo final de las ISFLSH1 | C15: 0.67780726 | D15: 0.67074767 | E15: 0.71567929 | F15: 0.81541778 | G15: 0.75280776
B16: Gasto de consumo final de la administración pública | C16: 15.195541 | D16: 16.078253 | E16: 16.11525 | F16: 18.606656 | G16: 16.986856
B17: Variación de existencias | C17: 1.0419827 | D17: 0.98994072 | E17: -0.45760185 | F17: 1.3997729 | G17: 0.71646774
B18: Formación bruta de capital fijo | C18: 23.117666 | D18: 22.823299 | E18: 22.914205 | F18: 15.793731 | G18: 17.043149
B19: Adquisición menos disposición de objetos valiosos | C19: 0.21669227 | D19: 0.21625406 | E19: 0.2458102 | F19: 0.0748425 | G19: 0.027027259
B20: Exportaciones de bienes y servicios | C20: 19.538867 | D20: 20.355059 | E20: 20.04744 | F20: 16.871753 | G20: 23.552516
B21: Menos importaciones de bienes y servicios | C21: 26.037246 | D21: 26.571136 | E21: 25.773533 | F21: 20.644681 | G21: 24.114569
B23: Fuente: Instituto Nacional de Estadística
B24: (1): Instituciones sin fines de lucro que sirven a los hogares

Sheet 2.3.1
B7: Cuadro N° 2.3.1
B8: BOLIVIA: PRODUCTO INTERNO BRUTO POR EL ENFOQUE DEL INGRESO, 2017 - 2021
B9: (En millones de bolivianos corrientes)
B10: CONCEPTO | C10: 2017 | D10: 2018 | E10: 2019 | F10: 2020 | G10: 2021
B12: PRODUCTO INTERNO BRUTO | C12: 317358.6 | D12: 334541.03 | E12: 338981.42 | F12: 292388.25 | G12: 330836.24
B14: Remuneración de asalariados | C14: 115880.64 | D14: 124739.27 | E14: 127512.55 | F14: 116800.1 | G14: 122389.98
B15: Impuestos a los productos y a la producción netos de subvenciones | C15: 35552.254 | D15: 34903.64 | E15: 30600.693 | F15: 24575.181 | G15: 27174.764
B16: Excedente de explotación bruto | C16: 103290.84 | D16: 108993.3 | E16: 111548.23 | F16: 91619.151 | G16: 112613.41
B17: Ingreso mixto bruto | C17: 62634.863 | D17: 65904.817 | E17: 69319.938 | F17: 59393.82 | G17: 68658.082
B19: Fuente: Instituto Nacional de Estadística

Sheet 2.3.2
B7: Cuadro N° 2.3.2
B8: BOLIVIA: ESTRUCTURA DEL PRODUCTO INTERNO BRUTO POR EL ENFOQUE DEL INGRESO, 2017 - 2021
B9: (En porcentaje)
B11: CONCEPTO | C11: 2017 | D11: 2018 | E11: 2019 | F11: 2020 | G11: 2021
B13: PRODUCTO INTERNO BRUTO | C13: 100 | D13: 100 | E13: 100 | F13: 100 | G13: 100
B15: Remuneración de asalariados | C15: 36.514102 | D15: 37.286689 | E15: 37.616384 | F15: 39.94692 | G15: 36.994129
B16: Impuestos a los productos y a la producción netos de subvenciones | C16: 11.202549 | D16: 10.433291 | E16: 9.0272479 | F16: 8.4049825 | G16: 8.2139623
B17: Excedente de explotación bruto | C17: 32.547043 | D17: 32.579949 | E17: 32.906888 | F17: 31.334758 | G17: 34.039018
B18: Ingreso mixto bruto | C18: 19.736305 | D18: 19.70007 | E18: 20.44948 | F18: 20.31334 | G18: 20.752891
B20: Fuente: Instituto Nacional de Estadística

Sheet 2.4.1
B7: Cuadro N° 2.4.1
B8: BOLIVIA: VALOR AGREGADO BRUTO POR ACTIVIDAD ECONÓMICA, 2017 - 2021
B9: (En millones de bolivianos corrientes)
B11: DIVISIÓN | C11: ACTIVIDADES ECONÓMICAS | D11: 2017 | E11: 2018 | F11: 2019 | G11: 2020 | H11: 2021
C13: VALOR AGREGADO BRUTO | D13: 283630.98 | E13: 301645.83 | F13: 309967.32 | G13: 269516.7 | H13: 305075.84
B14: 01 | C14: Agricultura y actividades de servicios conexos | D14: 13282.608 | E14: 12911.092 | F14: 13237.979 | G14: 14497.501 | H14: 16542.744
B15: 02 | C15: Agricultura de la coca | D15: 1868.7433 | E15: 2318.2666 | F15: 2777.5889 | G15: 2275.6213 | H15: 2217.4128
B16: 03 | C16: Ganadería y actividades de servicios conexos | D16: 8112.2063 | E16: 8437.6665 | F16: 8688.6787 | G16: 9044.4323 | H16: 9231.3177
B17: 04 | C17: Silvicultura, pesca, caza y actividades de servicios conexos | D17: 1100.4985 | E17: 1257.4642 | F17: 1169.806 | G17: 860.1127 | H17: 1155.2615
B18: 05 | C18: Extracción de petróleo crudo y gas natural, actividades de apoyo para la extracción de petróleo y gas natural | D18: 17800.952 | E18: 20441.597 | F18: 19032.728 | G18: 13494.903 | H18: 15011.124
B19: 06 | C19: Extracción minera | D19: 13666.29 | E19: 14639.06 | F19: 15890.599 | G19: 12264.252 | H19: 23303.01
B20: 07 | C20: Elaboración de carnes frescas y elaboradas | D20: 3556.5582 | E20: 3417.9203 | F20: 3388.8299 | G20: 3100.7296 | H20: 3948.6034
B21: 08 | C21: Elaboración de productos lácteos | D21: 678.83582 | E21: 661.03965 | F21: 788.02409 | G21: 750.41943 | H21: 735.73901
B22: 09 | C22: Elaboración de productos de molinería, panadería y beneficiado | D22: 4535.0746 | E22: 4541.1196 | F22: 4671.5212 | G22: 4262.7595 | H22: 4736.5866
B23: 10 | C23: Elaboración azúcar y melazas | D23: 653.04237 | E23: 623.1428 | F23: 626.84419 | G23: 474.32711 | H23: 535.81713
B24: 11 | C24: Elaboración de aceites de origen vegetal y animal; grasas no comestibles de origen animal | D24: 2349.8825 | E24: 2719.8404 | F24: 2253.956 | G24: 2551.1067 | H24: 3831.565
B25: 12 | C25: Elaboración de productos alimenticios diversos | D25: 1133.337 | E25: 1038.0335 | F25: 1075.1063 | G25: 1062.6642 | H25: 1074.3316
... B51: 38 | C51: Actividades comunales, sociales y personales | D51: 7798.4378 | E51: 8033.4985 | F51: 8259.6944 | G51: 7257.0431 | H51: 6990.2264
B52: 39 | C52: Actividades de los hogares como empleadores de personal domestico | D52: 1766.025 | E52: 1890.1721 | F52: 1994.2828 | G52: 1832.113 | H52: 1894.8991
B54: Fuente: Instituto Nacional de Estadística

Sheet 2.4.2
B7: Cuadro N° 2.4.2
B8: BOLIVIA: ESTRUCTURA DEL VALOR AGREGADO BRUTO POR ACTIVIDAD ECONÓMICA, 2017 - 2021
B9: (En porcentaje)
B11: DIVISIÓN | C11: ACTIVIDADES ECONÓMICAS | D11: 2017 | E11: 2018 | F11: 2019 | G11: 2020 | H11: 2021
C13: VALOR AGREGADO BRUTO | D13: 100 | E13: 100 | F13: 100 | G13: 100 | H13: 100
B14: 01 | C14: Agricultura y actividades de servicios conexos | D14: 4.6830595 | E14: 4.2802157 | F14: 4.2707661 | G14: 5.3790732 | H14: 5.4225021
B15: 02 | C15: Agricultura de la coca | D15: 0.65886431 | E15: 0.76853924 | F15: 0.89609088 | G15: 0.84433405 | H15: 0.72683987
B16: 03 | C16: Ganadería y actividades de servicios conexos | D16: 2.860127 | E16: 2.7972097 | F16: 2.8030951 | G16: 3.3557966 | H16: 3.0259091
B17: 04 | C17: Silvicultura, pesca, caza y actividades de servicios conexos | D17: 0.38800361 | E17: 0.41686774 | F17: 0.37739655 | G17: 0.3191315 | H17: 0.37868009
B18: 05 | C18: Extracción de petróleo crudo y gas natural, actividades de apoyo para la extracción de petróleo y gas natural | D18: 6.2760958 | E18: 6.7766879 | F18: 6.1402371 | G18: 5.0070748 | H18: 4.9204566
B19: 06 | C19: Extracción minera | D19: 4.8183346 | E19: 4.8530623 | F19: 5.1265401 | G19: 4.5504609 | H19: 7.638432
B20: 07 | C20: Elaboración de carnes frescas y elaboradas | D20: 1.2539385 | E20: 1.1330905 | F20: 1.0932862 | G20: 1.1504777 | H20: 1.2943022
B21: 08 | C21: Elaboración de productos lácteos | D21: 0.23933768 | E21: 0.2191443 | F21: 0.25422812 | G21: 0.27843151 | H21: 0.24116594
B22: 09 | C22: Elaboración de productos de molinería, panadería y beneficiado | D22: 1.5989349 | E22: 1.5054475 | F22: 1.5071012 | G22: 1.5816309 | H22: 1.5525932
B23: 10 | C23: Elaboración azúcar y melazas | D23: 0.23024366 | E23: 0.20658094 | F23: 0.20222912 | G23: 0.17599173 | H23: 0.17563407
B24: 11 | C24: Elaboración de aceites de origen vegetal y animal; grasas no comestibles de origen animal | D24: 0.82849993 | E24: 0.90166683 | F24: 0.72715922 | G24: 0.94654865 | H24: 1.2559385
B25: 12 | C25: Elaboración de productos alimenticios diversos | D25: 0.39958152 | E25: 0.34412327 | F25: 0.34684503 | G25: 0.3942851 | H25: 0.35215229
... B51: 38 | C51: Actividades comunales, sociales y personales | D51: 2.7495014 | E51: 2.6632221 | F51: 2.6646985 | G51: 2.6926135 | H51: 2.2913078
B52: 39 | C52: Actividades de los hogares como empleadores de personal domestico | D52: 0.62264883 | E52: 0.62661968 | F52: 0.64338486 | G52: 0.67977715 | H52: 0.62112396
B54: Fuente: Instituto Nacional de Estadística

Sheet 2.5.1
B7: Cuadro N° 2.5.1
B8: BOLIVIA: PRODUCTO INTERNO BRUTO POR ACTIVIDAD ECONÓMICA, 2017 - 2021
B9: (En millones de bolivianos corrientes)
B11: CLASIFICACIÓN CUENTAS NACIONALES | C11: SECCIÓN | D11: ACTIVIDADES ECONÓMICAS | E11: 2017 | F11: 2018 | G11: 2019 | H11: 2020 | I11: 2021
B13: B1 g | D13: PRODUCTO INTERNO BRUTO | E13: 317358.6 | F13: 334541.03 | G13: 338981.42 | H13: 292388.25 | I13: 330836.24
B14: D21 - D31 | D14: Impuestos a los productos netos de subvenciones | E14: 33727.62 | F14: 32895.197 | G14: 29014.095 | H14: 22871.55 | I14: 25760.397
B15: B1 g | D15: VALOR AGREGADO BRUTO | E15: 283630.98 | F15: 301645.83 | G15: 309967.32 | H15: 269516.7 | I15: 305075.84
C17: A | D17: Agricultura, ganadería, silvicultura y pesca | E17: 24364.056 | F17: 24924.489 | G17: 25874.053 | H17: 26677.667 | I17: 29146.736
C18: B | D18: Actividad extractiva | E18: 31467.242 | F18: 35080.657 | G18: 34923.327 | H18: 25759.155 | I18: 38314.135
C19: C | D19: Industrias manufactureras | E19: 36713.596 | F19: 37409.365 | G19: 38096.774 | H19: 33211.15 | I19: 39777.04
C20: D+E | D20: Suministro de electricidad, agua y recolección de desechos sólidos | E20: 5125.7688 | F20: 5623.8494 | G20: 6120.5056 | H20: 5794.897 | I20: 6146.4137
C21: F | D21: Construcción | E21: 22486.893 | F21: 23538.05 | G21: 24122.374 | H21: 14985.87 | I21: 17804.857
C22: G | D22: Comercio; reparación de vehículos automotores y motocicletas | E22: 26226.799 | F22: 27527.401 | G22: 28251.345 | H22: 23140.205 | I22: 26761.804
C23: H | D23: Transporte y almacenamiento | E23: 14032.325 | F23: 15002.022 | G23: 15506.037 | H23: 11649.623 | I23: 13868.038
C24: I | D24: Actividades de alojamiento y de servicio de comidas y bebidas | E24: 13773.029 | F24: 15585.548 | G24: 16527.486 | H24: 13054.06 | I24: 15454.886
C25: J | D25: Comunicación e informaciones | E25: 7951.6203 | F25: 7555.4144 | G25: 6818.2928 | H25: 6041.2367 | I25: 6107.197
C26: K | D26: Actividades financieras y de seguros | E26: 14117.701 | F26: 13936.94 | G26: 14737.887 | H26: 14061.661 | I26: 15202.761
C27: L+M+N | D27: Actividades inmobiliarias, empresariales y de alquiler | E27: 32658.861 | F27: 34904.808 | G27: 37423.069 | H27: 33967.938 | I27: 34740.446
C28: O | D28: Administración pública | E28: 15863.046 | F28: 16885.724 | G28: 16803.179 | H28: 16526.786 | I28: 16029.887
... C31: R+S+T | D31: Actividades artísticas, de entretenimiento, recreativas y otros servicios | E31: 9564.4628 | F31: 9923.6706 | G31: 10253.977 | H31: 9089.1561 | I31: 8885.1255
B33: Fuente: Instituto Nacional de Estadística

Sheet 2.5.2
B7: Cuadro N° 2.5.2
B8: BOLIVIA: ESTRUCTURA DEL PRODUCTO INTERNO BRUTO POR ACTIVIDAD ECONÓMICA, 2017 - 2021
B9: (En porcentaje)
B11: CLASIFICACIÓN CUENTAS NACIONALES | C11: SECCIÓN | D11: ACTIVIDADES ECONÓMICAS | E11: 2017 | F11: 2018 | G11: 2019 | H11: 2020 | I11: 2021
B13: B1 g | D13: PRODUCTO INTERNO BRUTO | E13: 100 | F13: 100 | G13: 100 | H13: 100 | I13: 100
B14: D21 - D31 | D14: Impuestos a los productos netos de subvenciones | E14: 10.627605 | F14: 9.8329336 | G14: 8.5591993 | H14: 7.8223217 | I14: 7.7864497
B15: B1 g | D15: VALOR AGREGADO BRUTO | E15: 89.372395 | F15: 90.167066 | G15: 91.440801 | H15: 92.177678 | I15: 92.21355
C17: A | D17: Agricultura, ganadería, silvicultura y pesca | E17: 7.6771374 | F17: 7.4503536 | G17: 7.6328824 | H17: 9.1240557 | I17: 8.8100191
C18: B | D18: Actividad extractiva | E18: 9.9153582 | F18: 10.486205 | G18: 10.302431 | H18: 8.8099146 | I18: 11.580997
C19: C | D19: Industrias manufactureras | E19: 11.568489 | F19: 11.182295 | G19: 11.238602 | H19: 11.358579 | I19: 12.023181
C20: D+E | D20: Suministro de electricidad, agua y recolección de desechos sólidos | E20: 1.6151347 | F20: 1.6810642 | G20: 1.8055579 | H20: 1.9819185 | I20: 1.8578418
C21: F | D21: Construcción | E21: 7.0856414 | F21: 7.0359233 | G21: 7.1161347 | H21: 5.1253323 | I21: 5.3817737
C22: G | D22: Comercio; reparación de vehículos automotores y motocicletas | E22: 8.2640897 | F22: 8.2284081 | G22: 8.3341869 | H22: 7.9142047 | I22: 8.0891393
C23: H | D23: Transporte y almacenamiento | E23: 4.4215992 | F23: 4.4843593 | G23: 4.574303 | H23: 3.9842993 | I23: 4.1918134
C24: I | D24: Actividades de alojamiento y de servicio de comidas y bebidas | E24: 4.3398946 | F24: 4.6587853 | G24: 4.8756319 | H24: 4.4646323 | I24: 4.671461
C25: J | D25: Comunicación e informaciones | E25: 2.5055632 | F25: 2.2584418 | G25: 2.0114061 | H25: 2.0661694 | I25: 1.8459879
C26: K | D26: Actividades financieras y de seguros | E26: 4.4485011 | F26: 4.1659882 | G26: 4.3476977 | H26: 4.8092429 | I26: 4.5952526
C27: L+M+N | D27: Actividades inmobiliarias, empresariales y de alquiler | E27: 10.290838 | F27: 10.43364 | G27: 11.039859 | H27: 11.617408 | I27: 10.500798
C28: O | D28: Administración pública | E28: 4.9984611 | F28: 5.0474298 | G28: 4.9569618 | H28: 5.6523428 | I28: 4.8452635
... C31: R+S+T | D31: Actividades artísticas, de entretenimiento, recreativas y otros servicios | E31: 3.0137714 | F31: 2.9663538 | G31: 3.0249379 | H31: 3.1085914 | I31: 2.6856567
B33: Fuente: Instituto Nacional de Estadística

Sheet 2.6.1
B7: Cuadro N° 2.6.1
B8: BOLIVIA: MEDIDAS DE VOLUMEN ENCADENADAS DEL PRODUCTO INTERNO BRUTO POR EL ENFOQUE DE LA PRODUCCIÓN CON AÑO DE REFERENCIA 2017, 2017 - 2021
B9: (En millones de bolivianos encadenados)
B11: CONCEPTO | C11: 2017 | D11: 2018 | E11: 2019 | F11: 2020 | G11: 2021
B13: PRODUCTO INTERNO BRUTO1 | C13: 317358.6 | D13: 326460.7 | E13: 331379.53 | F13: 289229.8 | G13: 318236.78
B15: Producción | C15: 508044.87 | D15: 523297.01 | E15: 535084.56 | F15: 460192 | G15: 515495.84
B16: Consumo intermedio | C16: 224413.88 | D16: 231854.77 | E16: 238591.09 | F16: 199896.46 | G16: 229224.33
B17: Valor agregado bruto | C17: 283630.98 | D17: 291442.22 | E17: 296534.47 | F17: 260146.78 | G17: 286244.54
B18: Impuesto al valor agregado no deducible | C18: 17345.144 | D18: 18007.284 | E18: 17934.464 | F18: 14474.533 | G18: 16247.302
B19: Otros impuestos a los productos netos de subvenciones | C19: 16382.476 | D19: 17011.188 | E19: 16832.37 | F19: 14288.667 | G19: 15311.313
B21: Fuente: Instituto Nacional de Estadística
B22: (1): La diferencia entre la suma del valor de los componentes y el valor total se explica por la aplicación del método de medidas de volumen encadenadas en el cálculo del valor del PIB en bolivianos encadenados.

Sheet 2.6.2
B7: Cuadro N° 2.6.2
B8: BOLIVIA: INDICES DE VOLUMEN ENCADENADOS DEL PRODUCTO INTERNO BRUTO POR EL ENFOQUE DE LA PRODUCCIÓN, 2017 - 2021
B9: (Referencia 2017=100)
B11: CONCEPTO | C11: 2017 | D11: 2018 | E11: 2019 | F11: 2020 | G11: 2021
B13: PRODUCTO INTERNO BRUTO1 | C13: 100 | D13: 102.86808 | E13: 104.41801 | F13: 91.136587 | G13: 100.27672
B15: Producción | C15: 100 | D15: 103.00213 | E15: 105.3223 | F15: 90.580976 | G15: 101.4666
B16: Consumo intermedio | C16: 100 | D16: 103.3157 | E16: 106.31744 | F16: 89.074909 | G16: 102.14356
B17: Valor agregado bruto | C17: 100 | D17: 102.75402 | E17: 104.54939 | F17: 91.720155 | G17: 100.92146
B18: Impuesto al valor agregado no deducible | C18: 100 | D18: 103.81744 | E18: 103.39761 | F18: 83.450059 | G18: 93.670611
B19: Otros impuestos a los productos netos de subvenciones | C19: 100 | D19: 103.83771 | E19: 102.74619 | F19: 87.219214 | G19: 93.461533
B21: Fuente: Instituto Nacional de Estadística
B22: (1): La diferencia entre la suma del valor de los componentes y el valor total se explica por la aplicación del método de medidas de volumen encadenadas en el cálculo del valor del PIB en bolivianos encadenados.

Sheet 2.6.3
B7: Cuadro N° 2.6.3
B8: BOLIVIA: VARIACIÓN DE LAS MEDIDAS DE VOLUMEN ENCADENADAS DEL PRODUCTO INTERNO BRUTO POR EL ENFOQUE DE LA PRODUCCIÓN CON AÑO DE REFERENCIA 2017, 2017 - 2021
B9: (En porcentaje)
B11: CONCEPTO | C11: 2018 | D11: 2019 | E11: 2020 | F11: 2021
B13: PRODUCTO INTERNO BRUTO1 | C13: 2.8680788 | D13: 1.506715 | E13: -12.719473 | F13: 10.029045
B15: Producción | C15: 3.0021252 | D15: 2.2525548 | E15: -13.996398 | F15: 12.017559
B16: Consumo intermedio | C16: 3.3157019 | D16: 2.9054044 | E16: -16.217971 | F16: 14.671531
B17: Valor agregado bruto | C17: 2.7540161 | D17: 1.7472575 | E17: -12.270983 | F17: 10.031938
B18: Impuesto al valor agregado no deducible | C18: 3.8174371 | D18: -0.40439398 | E18: -19.292078 | F18: 12.247508
B19: Otros impuestos a los productos netos de subvenciones | C19: 3.8377095 | D19: -1.0511753 | E19: -15.111975 | F19: 7.1570455
B21: Fuente: Instituto Nacional de Estadística
B22: (1): La diferencia entre la suma del valor de los componentes y el valor total se explica por la aplicación del método de medidas de volumen encadenadas en el cálculo del valor del PIB en bolivianos encadenados.

Sheet 2.6.4
B7: Cuadro N° 2.6.4
B8: BOLIVIA: CONTRIBUCIÓN A LA VARIACION DE LAS MEDIDAS DE VOLUMEN ENCADENADAS DEL PRODUCTO INTERNO BRUTO POR EL ENFOQUE DE LA PRODUCCIÓN CON AÑO DE REFERENCIA 2017, 2017 - 2021
B9: (En porcentaje)
B11: CONCEPTO | C11: 2018 | D11: 2019 | E11: 2020 | F11: 2021
B13: PRODUCTO INTERNO BRUTO | C13: 2.8680788 | D13: 1.506715 | E13: -12.719473 | F13: 10.029045
B15: Producción | C15: 4.8059649 | D15: 3.6030579 | E15: -22.738506 | F15: 19.365339
B16: Consumo intermedio | C16: 2.3446332 | D16: 2.0276011 | E16: -11.517826 | F16: 10.118128
B17: Valor agregado bruto | C17: 2.4613302 | D17: 1.5754508 | E17: -11.220685 | F17: 9.2472077
B18: Impuesto al valor agregado no deducible | C18: 0.20864094 | D18: -0.021649282 | E18: -0.94761668 | F18: 0.53410107
B19: Otros impuestos a los productos netos de subvenciones | C19: 0.1981077 | D19: -0.047086567 | E19: -0.55117183 | F19: 0.24773581
B21: Fuente: Instituto Nacional de Estadística

Sheet 2.7.1
B7: Cuadro N° 2.7.1
B8: BOLIVIA: MEDIDAS DE VOLUMEN ENCADENADAS DEL PRODUCTO INTERNO BRUTO POR EL ENFOQUE DEL GASTO CON AÑO DE REFERENCIA 2017, 2017 - 2021
B9: (En millones de bolivianos encadenados)
B11: CONCEPTO | C11: 2017 | D11: 2018 | E11: 2019 | F11: 2020 | G11: 2021
B13: PRODUCTO INTERNO BRUTO1 | C13: 317358.61 | D13: 326460.72 | E13: 331379.57 | F13: 289229.85 | G13: 318236.85
B15: Gasto de consumo final de los hogares | C15: 210245.92 | D15: 216849.21 | E15: 220821.84 | F15: 195594.07 | G15: 210954.51
B16: Gasto de consumo final de las ISFLSH2 | C16: 2151.0797 | D16: 2181.7539 | E16: 2338.7236 | F16: 2284.4879 | G16: 2356.0167
B17: Gasto de consumo final de la administración pública | C17: 48224.356 | D17: 49861.186 | E17: 50726.138 | F17: 49615.818 | G17: 51778.545
B18: Variación de existencias | C18: 3306.8218 | D18: 3334.7925 | E18: -1944.4135 | F18: 5075.2761 | G18: 2237.6177
B19: Formación bruta de capital fijo | C19: 73365.902 | D19: 76585.182 | E19: 80103.181 | F19: 47866.956 | G19: 57334.993
B20: Adquisición menos disposición de objetos valiosos | C20: 687.69157 | D20: 717.75743 | E20: 748.00151 | F20: 161.74379 | G20: 63.231466
B21: Exportaciones de bienes y servicios | C21: 62008.275 | D21: 63181.474 | E21: 64092.381 | F21: 48766.449 | G21: 67025.471
B22: Menos importaciones de bienes y servicios | C22: 82631.44 | D22: 86250.632 | E22: 85611.466 | F22: 59808.888 | G22: 73391.83
B24: Fuente: Instituto Nacional de Estadística
B25: (1): La diferencia entre la suma del valor de los componentes y el valor total se explica por la aplicación del método de medidas de volumen encadenadas en el cálculo del valor del PIB en bolivianos encadenados.
B26: (2):Instituciones sin fines de lucro que sirven a los hogares

Sheet 2.7.2
B7: Cuadro N° 2.7.2
B8: BOLIVIA: INDICES DE VOLUMEN ENCADENADAS DEL PRODUCTO INTERNO BRUTO POR EL ENFOQUE DEL GASTO, 2017 - 2021
B9: (Referencia 2017=100)
B11: CONCEPTO | C11: 2017 | D11: 2018 | E11: 2019 | F11: 2020 | G11: 2021
B13: PRODUCTO INTERNO BRUTO1 | C13: 100 | D13: 102.86808 | E13: 104.41802 | F13: 91.136602 | G13: 100.27674
B15: Gasto de consumo final de los hogares | C15: 100 | D15: 103.14074 | E15: 105.03026 | F15: 93.031089 | G15: 100.33703
B16: Gasto de consumo final de las ISFLSH2 | C16: 100 | D16: 101.42599 | E16: 108.72324 | F16: 106.20192 | G16: 109.52717
B17: Gasto de consumo final de la administración pública | C17: 100 | D17: 103.3942 | E17: 105.1878 | F17: 102.88539 | G17: 107.37011
B18: Variación de existencias | C18: 100 | D18: 100.84585 | E18: -58.800069 | F18: 153.47897 | G18: 67.666716
B19: Formación bruta de capital fijo | C19: 100 | D19: 104.38798 | E19: 109.18312 | F19: 65.244145 | G19: 78.149373
B20: Adquisición menos disposición de objetos valiosos | C20: 100 | D20: 104.372 | E20: 108.76991 | F20: 23.519816 | G20: 9.1947421
B21: Exportaciones de bienes y servicios | C21: 100 | D21: 101.892 | E21: 103.36101 | F21: 78.645067 | G21: 108.09117
B22: Menos importaciones de bienes y servicios | C22: 100 | D22: 104.37992 | E22: 103.60641 | F22: 72.380304 | G22: 88.818287
B24: Fuente: Instituto Nacional de Estadística
B25: (1): La diferencia entre la suma del valor de los componentes y el valor total se explica por la aplicación del método de medidas de volumen encadenadas en el cálculo del valor del PIB en bolivianos encadenados.
B26: (2): Instituciones sin fines de lucro que sirven a los hogares

Sheet 2.7.3
B7: Cuadro N° 2.7.3
B8: BOLIVIA: VARIACIÓN DE LAS MEDIDAS DE VOLUMEN ENCADENADAS DEL PRODUCTO INTERNO BRUTO POR EL ENFOQUE DEL GASTO CON AÑO DE REFERENCIA 2017, 2017 - 2021
B9: (En porcentaje)
B11: CONCEPTO | C11: 2018 | D11: 2019 | E11: 2020 | F11: 2021
B13: PRODUCTO INTERNO BRUTO1 | C13: 2.868084 | D13: 1.5067211 | E13: -12.719469 | F13: 10.029049
B15: Gasto de consumo final de los hogares | C15: 3.140743 | D15: 1.8319814 | E15: -11.424491 | F15: 7.8532224
B16: Gasto de consumo final de las ISFLSH2 | C16: 1.4259891 | D16: 7.1946596 | E16: -2.3190317 | F16: 3.1310641
B17: Gasto de consumo final de la administración pública | C17: 3.3941982 | D17: 1.7347194 | E17: -2.1888508 | F17: 4.3589455
B18: Variación de existencias | C18: 4.2364247 | D18: -2.1208361 | E18: -34.190553 | F18: 13.294658
B19: Formación bruta de capital fijo | C19: 4.3879773 | D19: 4.593577 | E19: -40.243377 | F19: 19.779901
B20: Adquisición menos disposición de objetos valiosos | C20: 4.3719984 | D20: 4.2136908 | E20: -78.376542 | F20: -60.906403
B21: Exportaciones de bienes y servicios | C21: 1.8920033 | D21: 1.4417314 | E21: -23.912252 | F21: 37.441769
B22: Menos importaciones de bienes y servicios | C22: 4.3799204 | D22: -0.74105608 | E22: -30.139162 | F22: 22.710573
B24: Fuente: Instituto Nacional de Estadística
B25: (1): La diferencia entre la suma del valor de los componentes y el valor total se explica por la aplicación del método de medidas de volumen encadenadas en el cálculo del valor del PIB en bolivianos encadenados.
B26: (2): Instituciones sin fines de lucro que sirven a los hogares

Sheet 2.7.4
B7: Cuadro N° 2.7.4
B8: BOLIVIA: CONTRIBUCIÓN A LA VARIACIÓN DE LAS MEDIDAS DE VOLUMEN ENCADENADAS DEL PRODUCTO INTERNO BRUTO POR EL ENFOQUE DEL GASTO CON AÑO DE REFERENCIA 2017, 2017 - 2021
B9: (En porcentaje)
B11: CONCEPTO | C11: 2018 | D11: 2019 | E11: 2020 | F11: 2021
B13: PRODUCTO INTERNO BRUTO | C13: 2.868084 | D13: 1.5067211 | E13: -12.719469 | F13: 10.029049
B15: Gasto de consumo final de los hogares | C15: 2.0807011 | D15: 1.1988044 | E15: -7.5621851 | F15: 5.2681385
B16: Gasto de consumo final de las ISFLSH1 | C16: 0.0096654577 | D16: 0.048258012 | E16: -0.01659683 | F16: 0.025531253
B17: Gasto de consumo final de la administración pública | C17: 0.51576676 | D17: 0.27891256 | E17: -0.35273879 | F17: 0.811054
B18: Variación de existencias | C18: 0.0088136135 | D18: -1.5671443 | E18: 1.6520267 | F18: -0.78263277
B19: Formación bruta de capital fijo | C19: 1.0143979 | D19: 1.0484058 | E19: -9.2214499 | F19: 3.1239842
B20: Adquisición menos disposición de objetos valiosos | C20: 0.0094737824 | D20: 0.0091122777 | E20: -0.19265754 | F20: -0.045583875
B21: Exportaciones de bienes y servicios | C21: 0.36967601 | D21: 0.29346528 | E21: -4.7937943 | F21: 6.3170829
B22: Menos importaciones de bienes y servicios | C22: 1.1404106 | D22: -0.19690702 | E22: -7.7679268 | F22: 4.6885254
B24: Fuente: Instituto Nacional de Estadística
B25: (1): Instituciones sin fines de lucro que sirven a los hogares

Sheet 2.8.1
B7: Cuadro N° 2.8.1
B8: BOLIVIA: MEDIDAS DE VOLUMEN ENCADENADAS DEL VALOR AGREGADO BRUTO POR ACTIVIDAD ECONÓMICA CON AÑO DE REFERENCIA 2017, 2017 - 2021
B9: (En millones de bolivianos encadenados)
B11: DIVISIÓN | C11: CONCEPTO | D11: 2017 | E11: 2018 | F11: 2019 | G11: 2020 | H11: 2021
C13: VALOR AGREGADO BRUTO1 | D13: 283630.98 | E13: 291442.22 | F13: 296534.47 | G13: 260146.78 | H13: 286244.54
B14: 01 | C14: Agricultura y actividades de servicios conexos | D14: 13282.608 | E14: 13635.618 | F14: 14105.124 | G14: 14772.487 | H14: 15189.399
B15: 02 | C15: Agricultura de la coca | D15: 1868.7433 | E15: 1766.964 | F15: 1957.012 | G15: 2258.225 | H15: 2374.8209
B16: 03 | C16: Ganadería y actividades de servicios conexos | D16: 8112.2063 | E16: 8427.9797 | F16: 8513.7976 | G16: 8842.6021 | H16: 9009.2857
B17: 04 | C17: Silvicultura, pesca, caza y actividades de servicios conexos | D17: 1100.4985 | E17: 1249.4665 | F17: 1259.5106 | G17: 1072.6662 | H17: 1313.2575
B18: 05 | C18: Extracción de petróleo crudo y gas natural, actividades de apoyo para la extracción de petróleo y gas natural | D18: 17800.952 | E18: 16595.911 | F18: 14758.223 | G18: 14037.566 | H18: 14142.594
B19: 06 | C19: Extracción minera | D19: 13666.29 | E19: 14669.303 | F19: 16327.115 | G19: 10966.364 | H19: 16683.646
B20: 07 | C20: Elaboración de carnes frescas y elaboradas | D20: 3556.5582 | E20: 3681.8531 | F20: 3761.9134 | G20: 3717.1126 | H20: 3856.8758
B21: 08 | C21: Elaboración de productos lácteos | D21: 678.83582 | E21: 689.31903 | F21: 704.71244 | G21: 671.73559 | H21: 687.29677
B22: 09 | C22: Elaboración de productos de molinería, panadería y beneficiado | D22: 4535.0746 | E22: 4700.2971 | F22: 4793.117 | G22: 4714.9109 | H22: 4571.408
B23: 10 | C23: Elaboración azúcar y melazas | D23: 653.04237 | E23: 629.72337 | F23: 662.54382 | G23: 651.69696 | H23: 635.0166
B24: 11 | C24: Elaboración de aceites de origen vegetal y animal; grasas no comestibles de origen animal | D24: 2349.8825 | E24: 2427.4564 | F24: 2411.7559 | G24: 2425.2344 | H24: 2739.6184
B25: 12 | C25: Elaboración de productos alimenticios diversos | D25: 1133.337 | E25: 1133.7065 | F25: 1140.0147 | G25: 1007.711 | H25: 1023.9525
... B51: 38 | C51: Actividades comunales, sociales y personales | D51: 7798.4378 | E51: 7988.7942 | F51: 7963.4772 | G51: 6803.3766 | H51: 6509.7821
B52: 39 | C52: Actividades de los hogares como empleadores de personal domestico | D52: 1766.025 | E52: 1791.9502 | F52: 1817.9335 | G52: 1670.1039 | H52: 1693.4687
B54: Fuente: Instituto Nacional de Estadística
B55: (1): La diferencia entre la suma del valor de los componentes y el valor total se explica por la aplicación del método de medidas de volumen encadenadas.

Sheet 2.8.2
B7: Cuadro N° 2.8.2
B8: BOLIVIA: INDICES DE VOLUMEN ENCADENADAS DEL VALOR AGREGADO BRUTO POR ACTIVIDAD ECONÓMICA, 2017 - 2021
B9: (Referencia 2017=100)
B11: DIVISIÓN | C11: CONCEPTO | D11: 2017 | E11: 2018 | F11: 2019 | G11: 2020 | H11: 2021
C13: VALOR AGREGADO BRUTO1 | D13: 100 | E13: 102.75402 | F13: 104.54939 | G13: 91.720155 | H13: 100.92146
B14: 01 | C14: Agricultura y actividades de servicios conexos | D14: 100 | E14: 102.65769 | F14: 106.19243 | G14: 111.21677 | H14: 114.35555
B15: 02 | C15: Agricultura de la coca | D15: 100 | E15: 94.553597 | F15: 104.72343 | G15: 120.8419 | H15: 127.08117
B16: 03 | C16: Ganadería y actividades de servicios conexos | D16: 100 | E16: 103.89257 | F16: 104.95046 | G16: 109.00366 | H16: 111.05839
B17: 04 | C17: Silvicultura, pesca, caza y actividades de servicios conexos | D17: 100 | E17: 113.53641 | F17: 114.4491 | G17: 97.470938 | H17: 119.33297
B18: 05 | C18: Extracción de petróleo crudo y gas natural, actividades de apoyo para la extracción de petróleo y gas natural | D18: 100 | E18: 93.230466 | F18: 82.906928 | G18: 78.858512 | H18: 79.448527
B19: 06 | C19: Extracción minera | D19: 100 | E19: 107.33932 | F19: 119.46999 | G19: 80.243904 | H19: 122.07883
B20: 07 | C20: Elaboración de carnes frescas y elaboradas | D20: 100 | E20: 103.52293 | F20: 105.77399 | G20: 104.51432 | H20: 108.44405
B21: 08 | C21: Elaboración de productos lácteos | D21: 100 | E21: 101.54429 | F21: 103.81191 | G21: 98.954059 | H21: 101.24639
B22: 09 | C22: Elaboración de productos de molinería, panadería y beneficiado | D22: 100 | E22: 103.64321 | F22: 105.68993 | G22: 103.96545 | H22: 100.80116
B23: 10 | C23: Elaboración azúcar y melazas | D23: 100 | E23: 96.429176 | F23: 101.45495 | G23: 99.793979 | H23: 97.239724
B24: 11 | C24: Elaboración de aceites de origen vegetal y animal; grasas no comestibles de origen animal | D24: 100 | E24: 103.30118 | F24: 102.63304 | G24: 103.20663 | H24: 116.58534
B25: 12 | C25: Elaboración de productos alimenticios diversos | D25: 100 | E25: 100.0326 | F25: 100.58921 | G25: 88.91539 | H25: 90.34846
... B51: 38 | C51: Actividades comunales, sociales y personales | D51: 100 | E51: 102.44096 | F51: 102.11631 | G51: 87.24025 | H51: 83.475463
B52: 39 | C52: Actividades de los hogares como empleadores de personal domestico | D52: 100 | E52: 101.468 | F52: 102.93929 | G52: 94.568533 | H52: 95.891547
B54: Fuente: Instituto Nacional de Estadística
B55: (1): La diferencia entre la suma del valor de los componentes y el valor total se explica por la aplicación del método de medidas de volumen encadenadas.

Sheet 2.8.3
B7: Cuadro N° 2.8.3
B8: BOLIVIA: VARIACIÓN DE LAS MEDIDAS DE VOLUMEN ENCADENADAS DEL PRODUCTO INTERNO BRUTO POR ACTIVIDAD ECONÓMICA CON AÑO DE REFERENCIA 2017, 2017 - 2021
B9: (En porcentaje)
B11: DIVISIÓN | C11: CONCEPTO | D11: 2018 | E11: 2019 | F11: 2020 | G11: 2021
C13: VALOR AGREGADO BRUTO1 | D13: 2.7540161 | E13: 1.7472575 | F13: -12.270983 | G13: 10.031938
B14: 01 | C14: Agricultura y actividades de servicios conexos | D14: 2.6576868 | E14: 3.4432302 | F14: 4.7313581 | G14: 2.8222155
B15: 02 | C15: Agricultura de la coca | D15: -5.4464034 | E15: 10.755625 | F15: 15.391471 | G15: 5.1631682
B16: 03 | C16: Ganadería y actividades de servicios conexos | D16: 3.8925708 | E16: 1.0182501 | F16: 3.8620194 | G16: 1.8850069
B17: 04 | C17: Silvicultura, pesca, caza y actividades de servicios conexos | D17: 13.536415 | E17: 0.80386822 | F17: -14.834682 | G17: 22.429286
B18: 05 | C18: Extracción de petróleo crudo y gas natural, actividades de apoyo para la extracción de petróleo y gas natural | D18: -6.7695344 | E18: -11.073137 | F18: -4.8830861 | G18: 0.74819517
B19: 06 | C19: Extracción minera | D19: 7.3393214 | E19: 11.301238 | F19: -32.833424 | G19: 52.134708
B20: 07 | C20: Elaboración de carnes frescas y elaboradas | D20: 3.5229263 | E20: 2.1744572 | F20: -1.1909048 | G20: 3.7599934
B21: 08 | C21: Elaboración de productos lácteos | D21: 1.5442926 | E21: 2.2331328 | F21: -4.6794752 | G21: 2.3165624
B22: 09 | C22: Elaboración de productos de molinería, panadería y beneficiado | D22: 3.6432138 | E22: 1.9747666 | F22: -1.6316334 | G22: -3.0435961
B23: 10 | C23: Elaboración azúcar y melazas | D23: -3.570824 | E23: 5.2118841 | F23: -1.6371539 | G23: -2.559528
B24: 11 | C24: Elaboración de aceites de origen vegetal y animal; grasas no comestibles de origen animal | D24: 3.3011831 | E24: -0.64678994 | F24: 0.55886977 | G24: 12.963034
B25: 12 | C25: Elaboración de productos alimenticios diversos | D25: 0.032604131 | E25: 0.55642293 | F25: -11.605438 | G25: 1.6117235
... B51: 38 | C51: Actividades comunales, sociales y personales | D51: 2.4409553 | E51: -0.31690639 | F51: -14.567764 | G51: -4.3154241
B52: 39 | C52: Actividades de los hogares como empleadores de personal domestico | D52: 1.468 | E52: 1.45 | F52: -8.1317376 | G52: 1.399
B54: Fuente: Instituto Nacional de Estadística
B55: (1): La diferencia entre la suma del valor de los componentes y el valor total se explica por la aplicación del método de medidas de volumen encadenadas.

Sheet 2.8.4
B7: Cuadro N° 2.8.4
B8: BOLIVIA: CONTRIBUCIÓN A LA VARIACIÓN DE LAS MEDIDAS DE VOLUMEN ENCADENADAS DEL PRODUCTO INTERNO BRUTO POR ACTIVIDAD ECONÓMICA CON AÑO DE REFERENCIA 2017, 2017 - 2021
B9: (En porcentaje)
B11: DIVISIÓN | C11: CONCEPTO | D11: 2018 | E11: 2019 | F11: 2020 | G11: 2021
C13: VALOR AGREGADO BRUTO | D13: 2.4613302 | E13: 1.5754508 | F13: -11.220685 | G13: 9.2472077
B14: 01 | C14: Agricultura y actividades de servicios conexos | D14: 0.11123383 | E14: 0.13288613 | F14: 0.18477007 | G14: 0.13993405
B15: 02 | C15: Agricultura de la coca | D15: -0.032070755 | E15: 0.074533175 | F15: 0.12611659 | G15: 0.040184293
B16: 03 | C16: Ganadería y actividades de servicios conexos | D16: 0.099500493 | E16: 0.025681917 | F16: 0.098990223 | G16: 0.058308831
B17: 04 | C17: Silvicultura, pesca, caza y actividades de servicios conexos | D17: 0.046939971 | E17: 0.0030215591 | F17: -0.051193662 | G17: 0.065979784
B18: 05 | C18: Extracción de petróleo crudo y gas natural, actividades de apoyo para la extracción de petróleo y gas natural | D18: -0.37970976 | E18: -0.6766064 | F18: -0.27416975 | G18: 0.03453224
B19: 06 | C19: Extracción minera | D19: 0.31605034 | E19: 0.49452679 | F19: -1.5391486 | G19: 2.1867951
B20: 07 | C20: Elaboración de carnes frescas y elaboradas | D20: 0.039480551 | E20: 0.022215874 | F20: -0.01190559 | G20: 0.039874115
B21: 08 | C21: Elaboración de productos lácteos | D21: 0.00330327 | E21: 0.0044125807 | F21: -0.010878293 | G21: 0.0059454968
B22: 09 | C22: Elaboración de productos de molinería, panadería y beneficiado | D22: 0.052061757 | E22: 0.026805834 | F22: -0.022485628 | G22: -0.044372912
B23: 10 | C23: Elaboración azúcar y melazas | D23: -0.0073478373 | E23: 0.009708071 | F23: -0.0030274238 | G23: -0.0041521967
B24: 11 | C24: Elaboración de aceites de origen vegetal y animal; grasas no comestibles de origen animal | D24: 0.024443618 | E24: -0.0052584445 | F24: 0.0037160381 | G24: 0.11310332
B25: 12 | C25: Elaboración de productos alimenticios diversos | D25: 0.00011643443 | E25: 0.0017265016 | F25: -0.036807562 | G25: 0.0058576938
... B51: 38 | C51: Actividades comunales, sociales y personales | D51: 0.059981478 | E51: -0.0076100292 | F51: -0.35496128 | G51: -0.10710833
B52: 39 | C52: Actividades de los hogares como empleadores de personal domestico | D52: 0.0081690702 | E52: 0.0081925665 | F52: -0.047840335 | G52: 0.0087661731
B54: Fuente: Instituto Nacional de Estadística

Sheet 2.9.1
B7: Cuadro N° 2.9.1
B8: BOLIVIA: MEDIDAS DE VOLUMEN ENCADENADAS DEL PRODUCTO INTERNO BRUTO POR ACTIVIDAD ECONÓMICA CON AÑO DE REFERENCIA 2017, 2017 - 2021
B9: (En millones de bolivianos encadenados)
B11: CLASIFICACIÓN CUENTAS NACIONALES | C11: SECCIÓN | D11: ACTIVIDADES ECONÓMICAS | E11: 2017 | F11: 2018 | G11: 2019 | H11: 2020 | I11: 2021
B13: B1 g | D13: PRODUCTO INTERNO BRUTO1 | E13: 317358.6 | F13: 326460.7 | G13: 331379.53 | H13: 289229.8 | I13: 318236.78
B14: D21 - D31 | D14: Impuestos a los productos netos de subvenciones | E14: 33727.62 | F14: 35018.472 | G14: 34773.68 | H14: 28684.513 | I14: 31551.515
B15: B1 g | D15: VALOR AGREGADO BRUTO | E15: 283630.98 | F15: 291442.22 | G15: 296534.47 | H15: 260146.78 | I15: 286244.54
C17: A | D17: Agricultura, ganadería, silvicultura y pesca | E17: 24364.056 | F17: 25080.028 | G17: 25874.885 | H17: 27090.794 | I17: 27994.627
C18: B | D18: Actividad extractiva | E18: 31467.242 | F18: 31265.213 | G18: 30722.333 | H18: 25314.932 | I18: 31697.826
C19: C | D19: Industrias manufactureras | E19: 36713.596 | F19: 37824.493 | G19: 38769.052 | H19: 33205.169 | I19: 37179.478
C20: D+E | D20: Suministro de electricidad, agua y recolección de desechos sólidos | E20: 5125.7688 | F20: 5398.3952 | G20: 5803.1617 | H20: 5509.5957 | I20: 6034.6385
C21: F | D21: Construcción | E21: 22486.893 | F21: 23714.367 | G21: 24275.895 | H21: 15436.92 | I21: 19022.971
C22: G | D22: Comercio; reparación de vehículos automotores y motocicletas | E22: 26226.799 | F22: 27076.995 | G22: 27377.082 | H22: 22448.738 | I22: 25935.852
C23: H | D23: Transporte y almacenamiento | E23: 14032.325 | F23: 14559.442 | G23: 14556.243 | H23: 10683.912 | I23: 13004.466
C24: I | D24: Actividades de alojamiento y de servicio de comidas y bebidas | E24: 13773.029 | F24: 14310.061 | G24: 14473.995 | H24: 10614.438 | I24: 12747.643
C25: J | D25: Comunicación e informaciones | E25: 7951.6203 | F25: 8115.686 | G25: 8115.4801 | H25: 7695.0202 | I25: 7821.6622
C26: K | D26: Actividades financieras y de seguros | E26: 14117.701 | F26: 14396.162 | G26: 14894.772 | H26: 14387.006 | I26: 14336.446
C27: L+M+N | D27: Actividades inmobiliarias, empresariales y de alquiler | E27: 32658.861 | F27: 33753.483 | G27: 35303.918 | H27: 32981.335 | I27: 34557.545
C28: O | D28: Administración pública | E28: 15863.046 | F28: 14964.933 | G28: 15374.562 | H28: 14181.876 | I28: 14705.85
... C31: R+S+T | D31: Actividades artísticas, de entretenimiento, recreativas y otros servicios | E31: 9564.4628 | F31: 9780.7444 | G31: 9782.6652 | H31: 8480.0026 | I31: 8211.7326
B33: Fuente: Instituto Nacional de Estadística
B34: (1): La diferencia entre la suma del valor de los componentes y el valor total se explica por la aplicación del método de medidas de volumen encadenadas en el cálculo del valor del PIB en bolivianos encadenados.

Sheet 2.9.2
B7: Cuadro N° 2.9.2
B8: BOLIVIA: INDICES DE VOLUMEN ENCADENADAS DEL PRODUCTO INTERNO BRUTO POR ACTIVIDAD ECONÓMICA CON AÑO DE REFERENCIA 2017, 2017 - 2021
B9: (Referencia 2017=100)
B11: CLASIFICACIÓN CUENTAS NACIONALES | C11: SECCIÓN | D11: ACTIVIDADES ECONÓMICAS | E11: 2017 | F11: 2018 | G11: 2019 | H11: 2020 | I11: 2021
B13: B1 g | D13: PRODUCTO INTERNO BRUTO1 | E13: 100 | F13: 102.86808 | G13: 104.41801 | H13: 91.136587 | I13: 100.27672
B14: D21 - D31 | D14: Impuestos a los productos netos de subvenciones | E14: 100 | F14: 103.82728 | G14: 103.10149 | H14: 85.047546 | I14: 93.548002
B15: B1 g | D15: VALOR AGREGADO BRUTO | E15: 100 | F15: 102.75402 | G15: 104.54939 | H15: 91.720155 | I15: 100.92146
C17: A | D17: Agricultura, ganadería, silvicultura y pesca | E17: 100 | F17: 102.93864 | G17: 106.20106 | H17: 111.19164 | I17: 114.90134
C18: B | D18: Actividad extractiva | E18: 100 | F18: 99.357972 | G18: 97.632747 | H18: 80.448526 | I18: 100.73278
C19: C | D19: Industrias manufactureras | E19: 100 | F19: 103.02585 | G19: 105.59862 | H19: 90.443794 | I19: 101.26896
C20: D+E | D20: Suministro de electricidad, agua y recolección de desechos sólidos | E20: 100 | F20: 105.31874 | G20: 113.21544 | H20: 107.48818 | I20: 117.73138
C21: F | D21: Construcción | E21: 100 | F21: 105.45862 | G21: 107.95576 | H21: 68.648526 | I21: 84.595818
C22: G | D22: Comercio; reparación de vehículos automotores y motocicletas | E22: 100 | F22: 103.24171 | G22: 104.38591 | H22: 85.594654 | I22: 98.890648
C23: H | D23: Transporte y almacenamiento | E23: 100 | F23: 103.75644 | G23: 103.73364 | H23: 76.13786 | I23: 92.675057
C24: I | D24: Actividades de alojamiento y de servicio de comidas y bebidas | E24: 100 | F24: 103.89916 | G24: 105.08942 | H24: 77.066838 | I24: 92.555116
C25: J | D25: Comunicación e informaciones | E25: 100 | F25: 102.0633 | G25: 102.06071 | H25: 96.772984 | I25: 98.365641
C26: K | D26: Actividades financieras y de seguros | E26: 100 | F26: 101.97243 | G26: 105.50423 | H26: 101.90757 | I26: 101.54944
C27: L+M+N | D27: Actividades inmobiliarias, empresariales y de alquiler | E27: 100 | F27: 103.35169 | G27: 108.09905 | H27: 100.9874 | I27: 105.81369
C28: O | D28: Administración pública | E28: 100 | F28: 94.338328 | G28: 96.920613 | H28: 89.401969 | I28: 92.705085
... C31: R+S+T | D31: Actividades artísticas, de entretenimiento, recreativas y otros servicios | E31: 100 | F31: 102.2613 | G31: 102.28139 | H31: 88.661567 | I31: 85.856705
B33: Fuente: Instituto Nacional de Estadística
B34: (1): La diferencia entre la suma del valor de los componentes y el valor total se explica por la aplicación del método de medidas de volumen encadenadas en el cálculo del valor del PIB en bolivianos encadenados.

Sheet 2.9.3
B7: Cuadro N° 2.9.3
B8: BOLIVIA: VARIACIÓN DE LAS MEDIDAS DE VOLUMEN ENCADENADAS DEL PRODUCTO INTERNO BRUTO POR ACTIVIDAD ECONÓMICA CON AÑO DE REFERENCIA 2017, 2017 - 2021
B9: (En porcentaje)
B11: CLASIFICACIÓN CUENTAS NACIONALES | C11: SECCIÓN | D11: ACTIVIDADES ECONÓMICAS | E11: 2018 | F11: 2019 | G11: 2020 | H11: 2021
B13: B1 g | D13: PRODUCTO INTERNO BRUTO1 | E13: 2.8680788 | F13: 1.506715 | G13: -12.719473 | H13: 10.029045
B14: D21 - D31 | D14: Impuestos a los productos netos de subvenciones | E14: 3.827284 | F14: -0.69903705 | G14: -17.51085 | H14: 9.9949467
B15: B1 g | D15: VALOR AGREGADO BRUTO | E15: 2.7540161 | F15: 1.7472575 | G15: -12.270983 | H15: 10.031938
C17: A | D17: Agricultura, ganadería, silvicultura y pesca | E17: 2.9386414 | F17: 3.1692829 | G17: 4.6991844 | H17: 3.3363119
C18: B | D18: Actividad extractiva | E18: -0.64202848 | F18: -1.7363728 | G18: -17.600878 | H18: 25.213949
C19: C | D19: Industrias manufactureras | E19: 3.025846 | F19: 2.4972154 | G19: -14.351351 | H19: 11.968946
C20: D+E | D20: Suministro de electricidad, agua y recolección de desechos sólidos | E20: 5.3187411 | F20: 7.4979042 | G20: -5.0587246 | H20: 9.5296066
C21: F | D21: Construcción | E21: 5.458623 | F21: 2.3678812 | G21: -36.410501 | H21: 23.230349
C22: G | D22: Comercio; reparación de vehículos automotores y motocicletas | E22: 3.2417062 | F22: 1.1082731 | G22: -18.001714 | H22: 15.533672
C23: H | D23: Transporte y almacenamiento | E23: 3.756443 | F23: -0.021972662 | G23: -26.60254 | H23: 21.720071
C24: I | D24: Actividades de alojamiento y de servicio de comidas y bebidas | E24: 3.8991556 | F24: 1.1455911 | G24: -26.665461 | H24: 20.097202
C25: J | D25: Comunicación e informaciones | E25: 2.0632987 | F25: -0.0025361562 | G25: -5.1809619 | H25: 1.6457661
C26: K | D26: Actividades financieras y de seguros | E26: 1.9724252 | F26: 3.4634936 | G26: -3.4090259 | H26: -0.3514277
C27: L+M+N | D27: Actividades inmobiliarias, empresariales y de alquiler | E27: 3.3516853 | F27: 4.5934083 | G27: -6.5788237 | H27: 4.7790946
C28: O | D28: Administración pública | E28: -5.6616721 | F28: 2.73726 | G28: -7.7575286 | H28: 3.6946789
... C31: R+S+T | D31: Actividades artísticas, de entretenimiento, recreativas y otros servicios | E31: 2.2613045 | F31: 0.019638158 | G31: -13.316029 | H31: -3.1635602
B33: Fuente: Instituto Nacional de Estadística
B34: (1): La diferencia entre la suma del valor de los componentes y el valor total se explica por la aplicación del método de medidas de volumen encadenadas en el cálculo del valor del PIB en bolivianos encadenados.

Sheet 2.9.4
B7: Cuadro N° 2.9.4
B8: BOLIVIA: CONTRIBUCIÓN A LA VARIACIÓN DE LAS MEDIDAS DE VOLUMEN ENCADENADAS DEL PRODUCTO INTERNO BRUTO POR ACTIVIDAD ECONÓMICA CON AÑO DE REFERENCIA 2017, 2017 - 2021
B9: (En porcentaje)
B11: CLASIFICACIÓN CUENTAS NACIONALES | C11: SECCIÓN | D11: ACTIVIDADES ECONÓMICAS | E11: 2018 | F11: 2019 | G11: 2020 | H11: 2021
B13: B1 g | D13: PRODUCTO INTERNO BRUTO | E13: 2.8680788 | F13: 1.506715 | G13: -12.719473 | H13: 10.029045
B14: D21 - D31 | D14: Impuestos a los productos netos de subvenciones | E14: 0.40674864 | F14: -0.068735849 | G14: -1.4987885 | H14: 0.78183689
B15: B1 g | D15: VALOR AGREGADO BRUTO | E15: 2.4613302 | F15: 1.5754508 | G15: -11.220685 | H15: 9.2472077
C17: A | D17: Agricultura, ganadería, silvicultura y pesca | E17: 0.22560353 | F17: 0.23612278 | G17: 0.35868322 | H17: 0.30440695
C18: B | D18: Actividad extractiva | E18: -0.063659424 | F18: -0.18207961 | G18: -1.8133184 | H18: 2.2213274
C19: C | D19: Industrias manufactureras | E19: 0.35004467 | F19: 0.279246 | G19: -1.6128913 | H19: 1.3595022
C20: D+E | D20: Suministro de electricidad, agua y recolección de desechos sólidos | E20: 0.085904832 | F20: 0.12604458 | G20: -0.091338199 | H20: 0.18886904
C21: F | D21: Construcción | E21: 0.38677845 | F21: 0.16660231 | G21: -2.5910203 | H21: 1.1906326
C22: G | D22: Comercio; reparación de vehículos automotores y motocicletas | E22: 0.26789751 | F22: 0.091193232 | G22: -1.5002965 | H22: 1.2293666
C23: H | D23: Transporte y almacenamiento | E23: 0.16609485 | F23: -0.00098533309 | G23: -1.2168808 | H23: 0.86539261
C24: I | D24: Actividades de alojamiento y de servicio de comidas y bebidas | E24: 0.16921924 | F24: 0.053370629 | G24: -1.3001097 | H24: 0.89726616
C25: J | D25: Comunicación e informaciones | E25: 0.051697252 | F25: -5.727761e-05 | G25: -0.10421018 | H25: 0.034004316
C26: K | D26: Actividades financieras y de seguros | E26: 0.087743356 | F26: 0.14428874 | G26: -0.14821414 | H26: -0.016901012
C27: L+M+N | D27: Actividades inmobiliarias, empresariales y de alquiler | E27: 0.34491651 | F27: 0.4792597 | G27: -0.72629283 | H27: 0.55520693
C28: O | D28: Administración pública | E28: -0.28299648 | F28: 0.13816128 | G28: -0.38453773 | H28: 0.20883591
... C31: R+S+T | D31: Actividades artísticas, de entretenimiento, recreativas y otros servicios | E31: 0.068150548 | F31: 0.00058253726 | G31: -0.40280162 | H31: -0.098342161
B33: Fuente: Instituto Nacional de Estadística

Sheet 2.10.1
B7: Cuadro N° 2.10.1
B8: BOLIVIA: GASTO DE CONSUMO FINAL DE LOS HOGARES POR FINALIDAD, 2017-2021
B9: (En millones de bolivianos corrientes)
B11: CLASIFICADOR DEL CONSUMO INDIVIDUAL1 | D11: GRUPO DE PRODUCTOS | E11: 2017 | F11: 2018 | G11: 2019 | H11: 2020 | I11: 2021
D14: GASTO DE CONSUMO FINAL DE LOS HOGARES EN EL TERRITORIO ECONÓMICO | E14: 210691.29 | F14: 219051.29 | G14: 224523.63 | H14: 196060.47 | I14: 215220.04
D15: Compras directas en el exterior por residentes | E15: 1577.6714 | F15: 1524.0089 | G15: 1686.4828 | H15: 407.07054 | I15: 14.36482
D16: Compras directas en el mercado interno por no residentes | E16: 2023.0445 | F16: 1659.7444 | G16: 1828.9963 | H16: 326.17285 | I16: 72.591245
D17: GASTO DE CONSUMO FINAL DE LOS HOGARES RESIDENTES | E17: 210245.92 | F17: 218915.55 | G17: 224381.12 | H17: 196141.37 | I17: 215161.81
B18: 01 | D18: ALIMENTOS Y BEBIDAS NO ALCOHÓLICAS | E18: 51901.548 | F18: 53085.282 | G18: 54444.211 | H18: 56442.713 | I18: 57567.794
C19: 011 | D19: Alimentos | E19: 48238.926 | F19: 49074.36 | G19: 50469.565 | H19: 52344.128 | I19: 53357.125
C20: 012 | D20: Bebidas no alcohólicas | E20: 3662.6216 | F20: 4010.922 | G20: 3974.646 | H20: 4098.5857 | I20: 4210.6688
B21: 02 | D21: BEBIDAS ALCOHÓLICAS, TABACO Y ESTUPEFACIENTES | E21: 2817.74 | F21: 3010.5252 | G21: 2984.8835 | H21: 2803.8763 | I21: 2997.1618
C22: 021 | D22: Bebidas alcohólicas consumidas en el hogar | E22: 2022.2028 | F22: 2145.7709 | G22: 2102.7069 | H22: 2146.8871 | I22: 2278.0029
C23: 022 | D23: Tabaco | E23: 795.5371 | F23: 864.75426 | G23: 882.17657 | H23: 656.98922 | I23: 719.15889
C24: 023 | D24: Estupefacientes
B25: 03 | D25: PRENDAS DE VESTIR Y CALZADO | E25: 9109.6098 | F25: 9073.4116 | G25: 9256.274 | H25: 5917.9368 | I25: 7963.0827
C26: 031 | D26: Prendas de vestir | E26: 6501.8127 | F26: 6447.4185 | G26: 6569.8577 | H26: 4311.9916 | I26: 5871.982
C27: 032 | D27: Calzado | E27: 2607.7971 | F27: 2625.9931 | G27: 2686.4163 | H27: 1605.9452 | I27: 2091.1007
